BEGIN:VCALENDAR
VERSION:2.0
PRODID:-//SanTan Brewing Company - ECPv6.15.18//NONSGML v1.0//EN
CALSCALE:GREGORIAN
METHOD:PUBLISH
X-ORIGINAL-URL:https://santanbrewing.com
X-WR-CALDESC:Events for SanTan Brewing Company
REFRESH-INTERVAL;VALUE=DURATION:PT1H
X-Robots-Tag:noindex
X-PUBLISHED-TTL:PT1H
BEGIN:VTIMEZONE
TZID:America/Phoenix
BEGIN:STANDARD
TZOFFSETFROM:-0700
TZOFFSETTO:-0700
TZNAME:MST
DTSTART:20250101T000000
END:STANDARD
END:VTIMEZONE
BEGIN:VEVENT
DTSTART;TZID=America/Phoenix:20260206T180000
DTEND;TZID=America/Phoenix:20260206T214500
DTSTAMP:20260423T071245
CREATED:20260119T235108Z
LAST-MODIFIED:20260119T235357Z
UID:10001374-1770400800-1770414300@santanbrewing.com
SUMMARY:SanTan Gardens Presents Higher - A Creed Tribute
DESCRIPTION:SanTan Gardens is embracing the era of dramatic vocals\, lifted arms\, and unapologetic early-2000s rock. Higher Creed Tribute takes the stage for a night dedicated to the songs that ruled rock radio\, car stereos\, and questionable frosted-tip phases. Marketed as The Ultimate Creed Tribute Band in the Land\, Higher Creed delivers the full experience. Big hooks. Bigger choruses. The kind of sing-along energy that sneaks up on you until you’re yelling lyrics you swore you forgot. \nCome for the nostalgia. Stay because your voice is gone and your beer is empty. \n🎟 Ticket Options \n$14 Standing Room Only (140 available)\n– $18 Day-Of Standing Room \n$39 VIP (60 available)\n– Reserved seat\n– Table service\n– Food voucher\n– Buy one\, get one future brewery or distillery tour voucher \nSchedule \nDoors: 6:00 PM\nShow: 6:45 PM \nOne night. No irony. All the feels.\nGet higher with Higher Creed Tribute at SanTan Gardens.
URL:https://santanbrewing.com/event/santan-gardens-presents-higher-creed-a-creed-tribute/
LOCATION:SanTan Gardens\, 495 E Warner Rd\, Chandler\, 85225\, United States
ATTACH;FMTTYPE=image/jpeg:https://santanbrewing.com/wp-content/uploads/2026/01/HigherCreed-Tribute-WS.jpg
END:VEVENT
END:VCALENDAR