BEGIN:VCALENDAR
VERSION:2.0
PRODID:-//SanTan Brewing Company - ECPv6.15.18//NONSGML v1.0//EN
CALSCALE:GREGORIAN
METHOD:PUBLISH
X-WR-CALNAME:SanTan Brewing Company
X-ORIGINAL-URL:https://santanbrewing.com
X-WR-CALDESC:Events for SanTan Brewing Company
REFRESH-INTERVAL;VALUE=DURATION:PT1H
X-Robots-Tag:noindex
X-PUBLISHED-TTL:PT1H
BEGIN:VTIMEZONE
TZID:America/Phoenix
BEGIN:STANDARD
TZOFFSETFROM:-0700
TZOFFSETTO:-0700
TZNAME:MST
DTSTART:20250101T000000
END:STANDARD
END:VTIMEZONE
BEGIN:VEVENT
DTSTART;TZID=America/Phoenix:20260418T180000
DTEND;TZID=America/Phoenix:20260418T214500
DTSTAMP:20260420T063538
CREATED:20260225T230637Z
LAST-MODIFIED:20260225T230705Z
UID:10001761-1776535200-1776548700@santanbrewing.com
SUMMARY:Voyager Jukebox | Tribute to Journey + Foreigner LIVE at SanTan Gardens
DESCRIPTION:Saturday\, April 18\nDoors Open at 6:00 PM\nShow starts at 7:15 PM \nVoyager Jukebox brings together two of the biggest arena rock catalogs of all time for one focused\, high-energy night at SanTan Gardens. \nThis is soaring vocals\, stacked harmonies\, and guitar work built for big choruses and louder crowds. From power ballads to radio staples\, Voyager Jukebox delivers the kind of set that fills the space and pulls everyone in. \nNo filler tracks. No deep-cut guessing games. Just the songs that defined a generation of stadium rock. \n🎟 Ticket Options\n$22 Standing Room Only ($30 Day-Of Standing Room) \n$47 VIP (Pre-Sale)Sing it loud. Don’t overthink it. \nFeaturing Voyager Jukebox at SanTan Gardens. \nSome nights are built for the chorus.
URL:https://santanbrewing.com/event/6161/
LOCATION:SanTan Gardens\, 495 E Warner Rd\, Chandler\, 85225\, United States
ATTACH;FMTTYPE=image/jpeg:https://santanbrewing.com/wp-content/uploads/2026/02/Voyager-JB-digital-WS.jpg
END:VEVENT
END:VCALENDAR