BEGIN:VCALENDAR
VERSION:2.0
PRODID:-//SanTan Brewing Company - ECPv6.15.18//NONSGML v1.0//EN
CALSCALE:GREGORIAN
METHOD:PUBLISH
X-WR-CALNAME:SanTan Brewing Company
X-ORIGINAL-URL:https://santanbrewing.com
X-WR-CALDESC:Events for SanTan Brewing Company
REFRESH-INTERVAL;VALUE=DURATION:PT1H
X-Robots-Tag:noindex
X-PUBLISHED-TTL:PT1H
BEGIN:VTIMEZONE
TZID:America/Phoenix
BEGIN:STANDARD
TZOFFSETFROM:-0700
TZOFFSETTO:-0700
TZNAME:MST
DTSTART:20250101T000000
END:STANDARD
END:VTIMEZONE
BEGIN:VEVENT
DTSTART;TZID=America/Phoenix:20260425T150000
DTEND;TZID=America/Phoenix:20260425T210000
DTSTAMP:20260425T060627
CREATED:20260225T224424Z
LAST-MODIFIED:20260409T222145Z
UID:10001452-1777129200-1777150800@santanbrewing.com
SUMMARY:Tacos & Tequila Fiesta w/ the Red Cholo Peppers & Metalachi
DESCRIPTION:Señor Blanco Tequila’s Tacos & Tequila Fiesta\nLocation: SanTan Gardens\nTime: 3-9pm \nGet ready for a fiesta filled with tacos\, tequila\, and live music. \nJoin us at SanTan Gardens for a celebration of bold flavors\, cold margaritas\, and high-energy music in the heart of Uptown Chandler. \nSip your way through the day at our Build-Your-Own Margarita Bar featuring Señor Blanco Tequila\, grab tacos from some of the Valley’s favorite vendors\, and enjoy live performances that will keep the party going all night. \nLocal Taco Vendors\nMexi-Q by Caldwells\nRecreo Cantina\nMarisco Boys by Taco Boys\nCarolinas\nElote on Wheels \nActivations & Experiences\nBuild-Your-Own Margarita Bar featuring Señor Blanco Tequila\nTaco Eating Contest sponsored by Recreo Cantina\nFlash Tattoos\nFace Painting\nPermanent Jewelry by BFF \nLive Music\nRed Hot Cholo Peppers\nMetalachi\nDJ Armani J \nExpect a full evening of tacos\, tequila\, music\, and a little bit of chaos in the best possible way. \nFiesta attire is highly encouraged — sombreros\, lucha masks\, bright colors\, or whatever your version of “tacos and tequila ready” looks like. \nCome hungry. Come thirsty. Come ready to party. \nLocation: SanTan Gardens\nTime: 3-9pm \n——————- \n• ALL SALES ARE FINAL\, unless the event is cancelled.• No refunds\, transfers or exchanges. Ticket resales are not permitted.• Tickets prices and fees are “market-priced” and may fluctuate.• Management reserves the right to deny and refuse entry to or remove parties who are deemed a distraction to other guests.• Management reserves the right to search personal items and may not allow personal items into the venue.• The Facility\, the Owner and the Host\, and their parent companies\, affiliates or subsidiaries\, are not responsible for any lost\, stolen or damaged property.• Smoking is prohibited except in designated areas.• No firearms or other weapons are allowed.• You agree that all references to “you” and “your” shall include any minor children accompanying you.• All bags and persons are subject to search \n 
URL:https://santanbrewing.com/event/downtown-chandler-taco-fest/
LOCATION:SanTan Gardens\, 495 E Warner Rd\, Chandler\, 85225\, United States
ATTACH;FMTTYPE=image/jpeg:https://santanbrewing.com/wp-content/uploads/2026/02/TACOS-TEQUILA-FIESTA-digital-WS-1.jpg
END:VEVENT
END:VCALENDAR