BEGIN:VCALENDAR
VERSION:2.0
PRODID:-//SanTan Brewing Company - ECPv6.15.18//NONSGML v1.0//EN
CALSCALE:GREGORIAN
METHOD:PUBLISH
X-ORIGINAL-URL:https://santanbrewing.com
X-WR-CALDESC:Events for SanTan Brewing Company
REFRESH-INTERVAL;VALUE=DURATION:PT1H
X-Robots-Tag:noindex
X-PUBLISHED-TTL:PT1H
BEGIN:VTIMEZONE
TZID:America/Phoenix
BEGIN:STANDARD
TZOFFSETFROM:-0700
TZOFFSETTO:-0700
TZNAME:MST
DTSTART:20250101T000000
END:STANDARD
END:VTIMEZONE
BEGIN:VEVENT
DTSTART;TZID=America/Phoenix:20260501T180000
DTEND;TZID=America/Phoenix:20260501T214500
DTSTAMP:20260423T034048
CREATED:20260224T201334Z
LAST-MODIFIED:20260224T201334Z
UID:10001451-1777658400-1777671900@santanbrewing.com
SUMMARY:AZ/DZ | The Ultimate AC/DC Experience LIVE at SanTan Gardens
DESCRIPTION:Friday\, May 1\nDoors Open at 6:00 PM\nShow Starts at 7:15 PM \nAZ/DZ channels the full voltage of AC/DC with a performance that prioritizes power\, precision\, and relentless energy. \nExpect hard-driving riffs\, tight rhythms\, and a set built for volume. AZ/DZ recreates the sound and presence of AC/DC without overcomplicating it. Straightforward rock. No filler. No slowdown. \n🎟 Ticket Options\n$13 Standing Room Only ($18 Day-Of Standing Room) \n$38 VIP (Pre-Sale) \nIf you’re showing up\, come ready. \nFeaturing AZ/DZ at SanTan Gardens.
URL:https://santanbrewing.com/event/az-dz-the-ultimate-ac-dc-experience-live-at-santan-gardens/
LOCATION:SanTan Gardens\, 495 E Warner Rd\, Chandler\, 85225\, United States
ATTACH;FMTTYPE=image/jpeg:https://santanbrewing.com/wp-content/uploads/2026/02/AZ-DZ-digital-WS.jpg
END:VEVENT
END:VCALENDAR