BEGIN:VCALENDAR
VERSION:2.0
PRODID:-//SanTan Brewing Company - ECPv6.15.18//NONSGML v1.0//EN
CALSCALE:GREGORIAN
METHOD:PUBLISH
X-ORIGINAL-URL:https://santanbrewing.com
X-WR-CALDESC:Events for SanTan Brewing Company
REFRESH-INTERVAL;VALUE=DURATION:PT1H
X-Robots-Tag:noindex
X-PUBLISHED-TTL:PT1H
BEGIN:VTIMEZONE
TZID:America/Phoenix
BEGIN:STANDARD
TZOFFSETFROM:-0700
TZOFFSETTO:-0700
TZNAME:MST
DTSTART:20250101T000000
END:STANDARD
END:VTIMEZONE
BEGIN:VEVENT
DTSTART;TZID=America/Phoenix:20260503T110000
DTEND;TZID=America/Phoenix:20260503T130000
DTSTAMP:20260423T021602
CREATED:20250224T192240Z
LAST-MODIFIED:20260421T205040Z
UID:10000966-1777806000-1777813200@santanbrewing.com
SUMMARY:Brunch Bingo!
DESCRIPTION:Join us for Brunch Bingo at Santan Gardens.  Doors open at 11am. Come dab your way to victory while enjoying delicious food\, refreshing beers\, and exciting prizes. Don’t miss out on this fun-filled morning! \n$25 includes first drink and brunch (*includes gratuity)
URL:https://santanbrewing.com/event/brunch-bingo-49/2026-05-03/
LOCATION:SanTan Gardens\, 495 E Warner Rd\, Chandler\, 85225\, United States
ATTACH;FMTTYPE=image/jpeg:https://santanbrewing.com/wp-content/uploads/2024/01/BrunchBingo-digital-WS.jpg
END:VEVENT
END:VCALENDAR