BEGIN:VCALENDAR
VERSION:2.0
PRODID:-//SanTan Brewing Company - ECPv6.15.18//NONSGML v1.0//EN
CALSCALE:GREGORIAN
METHOD:PUBLISH
X-WR-CALNAME:SanTan Brewing Company
X-ORIGINAL-URL:https://santanbrewing.com
X-WR-CALDESC:Events for SanTan Brewing Company
REFRESH-INTERVAL;VALUE=DURATION:PT1H
X-Robots-Tag:noindex
X-PUBLISHED-TTL:PT1H
BEGIN:VTIMEZONE
TZID:America/Phoenix
BEGIN:STANDARD
TZOFFSETFROM:-0700
TZOFFSETTO:-0700
TZNAME:MST
DTSTART:20250101T000000
END:STANDARD
END:VTIMEZONE
BEGIN:VEVENT
DTSTART;TZID=America/Phoenix:20260508T180000
DTEND;TZID=America/Phoenix:20260508T220000
DTSTAMP:20260421T120831
CREATED:20260331T204244Z
LAST-MODIFIED:20260331T204244Z
UID:10001774-1778263200-1778277600@santanbrewing.com
SUMMARY:Love Mischief & Hypervisor LIVE at SanTan Gardens
DESCRIPTION:Friday\, May 8\nDoors at 6:00 PM\nShow Starts: 7:15 PM \n\nSanTan Gardens brings a night of high-energy electronic rock and retro-futuristic sound with Hypervisor and Love Mischief taking the stage for a full night of lights\, synth\, and driving beats. \nBlending electronic elements with live instruments\, heavy grooves\, and atmospheric sound\, this show brings a modern edge with a throwback feel. Expect pulsing rhythms\, glowing visuals\, and a sound built for a crowd that wants to move. \nHypervisor and Love Mischief deliver a dynamic live performance that sits somewhere between rock show\, dance party\, and late-night desert music festival. \nTickets\nGeneral Admission: $15 Advance | $20 Day Of\nStanding Room Only | Limited to 140 tickets \nVIP: $40 (Pre-Sale Only)\nLimited to 72 tickets\n*Includes reserved seating\, table service\, and food voucher. \nSanTan Food Truck will be on site from 6-8pm \nNeon encouraged. Dancing inevitable.\nFeaturing Hypervisor and Love Mischief live at SanTan Gardens. \nPlease note: No outside chairs are allowed. \n* Free admission for children 12 years old and under (not including food).
URL:https://santanbrewing.com/event/love-mischief-hypervisor-live-at-santan-gardens/
LOCATION:SanTan Gardens\, 495 E Warner Rd\, Chandler\, 85225\, United States
ATTACH;FMTTYPE=image/jpeg:https://santanbrewing.com/wp-content/uploads/2026/03/LoveMischief-digital-WS.jpg
END:VEVENT
END:VCALENDAR