BEGIN:VCALENDAR
VERSION:2.0
PRODID:-//SanTan Brewing Company - ECPv6.15.18//NONSGML v1.0//EN
CALSCALE:GREGORIAN
METHOD:PUBLISH
X-WR-CALNAME:SanTan Brewing Company
X-ORIGINAL-URL:https://santanbrewing.com
X-WR-CALDESC:Events for SanTan Brewing Company
REFRESH-INTERVAL;VALUE=DURATION:PT1H
X-Robots-Tag:noindex
X-PUBLISHED-TTL:PT1H
BEGIN:VTIMEZONE
TZID:America/Phoenix
BEGIN:STANDARD
TZOFFSETFROM:-0700
TZOFFSETTO:-0700
TZNAME:MST
DTSTART:20250101T000000
END:STANDARD
END:VTIMEZONE
BEGIN:VEVENT
DTSTART;TZID=America/Phoenix:20260517T110000
DTEND;TZID=America/Phoenix:20260517T130000
DTSTAMP:20260425T033439
CREATED:20250224T192240Z
LAST-MODIFIED:20260421T205040Z
UID:10000968-1779015600-1779022800@santanbrewing.com
SUMMARY:Brunch Bingo!
DESCRIPTION:Join us for Brunch Bingo at Santan Gardens.  Doors open at 11am. Come dab your way to victory while enjoying delicious food\, refreshing beers\, and exciting prizes. Don’t miss out on this fun-filled morning! \n$25 includes first drink and brunch (*includes gratuity)
URL:https://santanbrewing.com/event/brunch-bingo-49/2026-05-17/
LOCATION:SanTan Gardens\, 495 E Warner Rd\, Chandler\, 85225\, United States
ATTACH;FMTTYPE=image/jpeg:https://santanbrewing.com/wp-content/uploads/2024/01/BrunchBingo-digital-WS.jpg
END:VEVENT
BEGIN:VEVENT
DTSTART;TZID=America/Phoenix:20260517T130000
DTEND;TZID=America/Phoenix:20260517T150000
DTSTAMP:20260425T033439
CREATED:20260406T230305Z
LAST-MODIFIED:20260406T230338Z
UID:10001777-1779022800-1779030000@santanbrewing.com
SUMMARY:Paint & Sip at SanTan Gardens
DESCRIPTION:Spring Paint & Sip at SanTan Gardens\nStep into a relaxed\, creative atmosphere and celebrate the season with a guided spring-themed Paint & Sip experience. Whether you’re coming with friends or on your own\, this is the perfect way to unwind\, connect\, and create something you’re proud to take home. \nDuring this 2-hour session\, you’ll be guided step-by-step through a spring-inspired painting—no experience needed. All paint supplies are included\, so all you have to do is show up ready to enjoy the moment. \nSip\, paint\, and embrace the beauty of the season in a setting designed to feel both elevated and welcoming. \nWhat’s included: \n\nAll painting supplies (canvas\, paint\, brushes\, etc.)\nA fully guided\, 2-hour painting experience\nA take-home piece to remember the night\n\nPlease note: \n\nThere is a 2-drink minimum per guest (purchased separately at the venue)\n\nSpots are limited to keep the experience intimate—secure your seat and join us for a night of creativity\, connection\, and spring-inspired fun.
URL:https://santanbrewing.com/event/paint-sip-at-santan-gardens/
LOCATION:SanTan Gardens\, 495 E Warner Rd\, Chandler\, 85225\, United States
ATTACH;FMTTYPE=image/jpeg:https://santanbrewing.com/wp-content/uploads/2026/04/may-paint-and-sip-at-san-tan-UPDATED.jpg
END:VEVENT
END:VCALENDAR