BEGIN:VCALENDAR
VERSION:2.0
PRODID:-//SanTan Brewing Company - ECPv6.15.18//NONSGML v1.0//EN
CALSCALE:GREGORIAN
METHOD:PUBLISH
X-WR-CALNAME:SanTan Brewing Company
X-ORIGINAL-URL:https://santanbrewing.com
X-WR-CALDESC:Events for SanTan Brewing Company
REFRESH-INTERVAL;VALUE=DURATION:PT1H
X-Robots-Tag:noindex
X-PUBLISHED-TTL:PT1H
BEGIN:VTIMEZONE
TZID:America/Phoenix
BEGIN:STANDARD
TZOFFSETFROM:-0700
TZOFFSETTO:-0700
TZNAME:MST
DTSTART:20250101T000000
END:STANDARD
END:VTIMEZONE
BEGIN:VEVENT
DTSTART;TZID=America/Phoenix:20260529T180000
DTEND;TZID=America/Phoenix:20260529T220000
DTSTAMP:20260421T134211
CREATED:20260331T201217Z
LAST-MODIFIED:20260331T202017Z
UID:10001773-1780077600-1780092000@santanbrewing.com
SUMMARY:The Noodles | A Night of Grateful Dead Music LIVE at SanTan Gardens
DESCRIPTION:Friday\, May 29\nDoors at 6:00 PM\nShow Starts: 7:15 PM\nSanTan Gardens brings a night of Grateful Dead music to the stage with The Noodles\, delivering the laid-back grooves\, extended jams\, and psychedelic sound that defined a generation. \nExpect classic Dead favorites\, flowing guitar solos\, and the kind of easygoing energy that turns a concert into a full-on vibe. The Noodles recreate the spirit of the Grateful Dead with music built for dancing\, wandering\, and getting lost in the rhythm for a few hours. \nThis is a night for Deadheads\, music lovers\, and anyone who just wants to kick back with good music\, good drinks\, and good people. \nTickets\nGeneral Admission: $12 Advance | $18 Day Of\nStanding Room Only | Limited to 140 tickets \nVIP: $37 (Pre-Sale Only)\nLimited to 60 tickets\n*Includes reserved seating\, table service\, and food voucher. \nSanTan Food Truck will be on site from 6-8pm \nTie-dye optional. Good vibes required.\nFeaturing The Noodles live at SanTan Gardens. \nPlease note: No outside chairs are allowed. \n* Free admission for children 12 years old and under (not including food).
URL:https://santanbrewing.com/event/the-noodles-a-night-of-grateful-dead-music-live-at-santan-gardens/
LOCATION:SanTan Gardens\, 495 E Warner Rd\, Chandler\, 85225\, United States
ATTACH;FMTTYPE=image/jpeg:https://santanbrewing.com/wp-content/uploads/2026/03/EveningofDead-Digital-WS.jpg
END:VEVENT
END:VCALENDAR