BEGIN:VCALENDAR
VERSION:2.0
PRODID:-//SanTan Brewing Company - ECPv6.15.18//NONSGML v1.0//EN
CALSCALE:GREGORIAN
METHOD:PUBLISH
X-WR-CALNAME:SanTan Brewing Company
X-ORIGINAL-URL:https://santanbrewing.com
X-WR-CALDESC:Events for SanTan Brewing Company
REFRESH-INTERVAL;VALUE=DURATION:PT1H
X-Robots-Tag:noindex
X-PUBLISHED-TTL:PT1H
BEGIN:VTIMEZONE
TZID:America/Phoenix
BEGIN:STANDARD
TZOFFSETFROM:-0700
TZOFFSETTO:-0700
TZNAME:MST
DTSTART:20250101T000000
END:STANDARD
END:VTIMEZONE
BEGIN:VEVENT
DTSTART;TZID=America/Phoenix:20260705T110000
DTEND;TZID=America/Phoenix:20260705T130000
DTSTAMP:20260425T054310
CREATED:20250224T192240Z
LAST-MODIFIED:20260421T205040Z
UID:10000975-1783249200-1783256400@santanbrewing.com
SUMMARY:Brunch Bingo!
DESCRIPTION:Join us for Brunch Bingo at Santan Gardens.  Doors open at 11am. Come dab your way to victory while enjoying delicious food\, refreshing beers\, and exciting prizes. Don’t miss out on this fun-filled morning! \n$25 includes first drink and brunch (*includes gratuity)
URL:https://santanbrewing.com/event/brunch-bingo-49/2026-07-05/
LOCATION:SanTan Gardens\, 495 E Warner Rd\, Chandler\, 85225\, United States
ATTACH;FMTTYPE=image/jpeg:https://santanbrewing.com/wp-content/uploads/2024/01/BrunchBingo-digital-WS.jpg
END:VEVENT
BEGIN:VEVENT
DTSTART;TZID=America/Phoenix:20260707T183000
DTEND;TZID=America/Phoenix:20260707T203000
DTSTAMP:20260425T054310
CREATED:20250224T193756Z
LAST-MODIFIED:20260225T224623Z
UID:10001518-1783449000-1783456200@santanbrewing.com
SUMMARY:Trivia Night
DESCRIPTION:Test your knowledge at Trivia Night every Tuesday at SanTan Gardens! Hosted by ‘Geeks Who Drink’! Top 3 teams win SanTan Gift Cards!
URL:https://santanbrewing.com/event/trivia-night-22/2026-07-07/
LOCATION:SanTan Gardens\, 495 E Warner Rd\, Chandler\, 85225\, United States
ATTACH;FMTTYPE=image/jpeg:https://santanbrewing.com/wp-content/uploads/2024/08/Trivia.jpeg
END:VEVENT
BEGIN:VEVENT
DTSTART;TZID=America/Phoenix:20260712T110000
DTEND;TZID=America/Phoenix:20260712T130000
DTSTAMP:20260425T054310
CREATED:20250224T192240Z
LAST-MODIFIED:20260421T205040Z
UID:10000976-1783854000-1783861200@santanbrewing.com
SUMMARY:Brunch Bingo!
DESCRIPTION:Join us for Brunch Bingo at Santan Gardens.  Doors open at 11am. Come dab your way to victory while enjoying delicious food\, refreshing beers\, and exciting prizes. Don’t miss out on this fun-filled morning! \n$25 includes first drink and brunch (*includes gratuity)
URL:https://santanbrewing.com/event/brunch-bingo-49/2026-07-12/
LOCATION:SanTan Gardens\, 495 E Warner Rd\, Chandler\, 85225\, United States
ATTACH;FMTTYPE=image/jpeg:https://santanbrewing.com/wp-content/uploads/2024/01/BrunchBingo-digital-WS.jpg
END:VEVENT
BEGIN:VEVENT
DTSTART;TZID=America/Phoenix:20260714T183000
DTEND;TZID=America/Phoenix:20260714T203000
DTSTAMP:20260425T054310
CREATED:20250224T193756Z
LAST-MODIFIED:20260225T224623Z
UID:10001519-1784053800-1784061000@santanbrewing.com
SUMMARY:Trivia Night
DESCRIPTION:Test your knowledge at Trivia Night every Tuesday at SanTan Gardens! Hosted by ‘Geeks Who Drink’! Top 3 teams win SanTan Gift Cards!
URL:https://santanbrewing.com/event/trivia-night-22/2026-07-14/
LOCATION:SanTan Gardens\, 495 E Warner Rd\, Chandler\, 85225\, United States
ATTACH;FMTTYPE=image/jpeg:https://santanbrewing.com/wp-content/uploads/2024/08/Trivia.jpeg
END:VEVENT
BEGIN:VEVENT
DTSTART;TZID=America/Phoenix:20260719T110000
DTEND;TZID=America/Phoenix:20260719T130000
DTSTAMP:20260425T054310
CREATED:20250224T192240Z
LAST-MODIFIED:20260421T205040Z
UID:10000977-1784458800-1784466000@santanbrewing.com
SUMMARY:Brunch Bingo!
DESCRIPTION:Join us for Brunch Bingo at Santan Gardens.  Doors open at 11am. Come dab your way to victory while enjoying delicious food\, refreshing beers\, and exciting prizes. Don’t miss out on this fun-filled morning! \n$25 includes first drink and brunch (*includes gratuity)
URL:https://santanbrewing.com/event/brunch-bingo-49/2026-07-19/
LOCATION:SanTan Gardens\, 495 E Warner Rd\, Chandler\, 85225\, United States
ATTACH;FMTTYPE=image/jpeg:https://santanbrewing.com/wp-content/uploads/2024/01/BrunchBingo-digital-WS.jpg
END:VEVENT
BEGIN:VEVENT
DTSTART;TZID=America/Phoenix:20260721T183000
DTEND;TZID=America/Phoenix:20260721T203000
DTSTAMP:20260425T054310
CREATED:20250224T193756Z
LAST-MODIFIED:20260225T224623Z
UID:10001520-1784658600-1784665800@santanbrewing.com
SUMMARY:Trivia Night
DESCRIPTION:Test your knowledge at Trivia Night every Tuesday at SanTan Gardens! Hosted by ‘Geeks Who Drink’! Top 3 teams win SanTan Gift Cards!
URL:https://santanbrewing.com/event/trivia-night-22/2026-07-21/
LOCATION:SanTan Gardens\, 495 E Warner Rd\, Chandler\, 85225\, United States
ATTACH;FMTTYPE=image/jpeg:https://santanbrewing.com/wp-content/uploads/2024/08/Trivia.jpeg
END:VEVENT
BEGIN:VEVENT
DTSTART;TZID=America/Phoenix:20260726T110000
DTEND;TZID=America/Phoenix:20260726T130000
DTSTAMP:20260425T054310
CREATED:20250224T192240Z
LAST-MODIFIED:20260421T205040Z
UID:10000978-1785063600-1785070800@santanbrewing.com
SUMMARY:Brunch Bingo!
DESCRIPTION:Join us for Brunch Bingo at Santan Gardens.  Doors open at 11am. Come dab your way to victory while enjoying delicious food\, refreshing beers\, and exciting prizes. Don’t miss out on this fun-filled morning! \n$25 includes first drink and brunch (*includes gratuity)
URL:https://santanbrewing.com/event/brunch-bingo-49/2026-07-26/
LOCATION:SanTan Gardens\, 495 E Warner Rd\, Chandler\, 85225\, United States
ATTACH;FMTTYPE=image/jpeg:https://santanbrewing.com/wp-content/uploads/2024/01/BrunchBingo-digital-WS.jpg
END:VEVENT
BEGIN:VEVENT
DTSTART;TZID=America/Phoenix:20260728T183000
DTEND;TZID=America/Phoenix:20260728T203000
DTSTAMP:20260425T054310
CREATED:20250224T193756Z
LAST-MODIFIED:20260225T224623Z
UID:10001521-1785263400-1785270600@santanbrewing.com
SUMMARY:Trivia Night
DESCRIPTION:Test your knowledge at Trivia Night every Tuesday at SanTan Gardens! Hosted by ‘Geeks Who Drink’! Top 3 teams win SanTan Gift Cards!
URL:https://santanbrewing.com/event/trivia-night-22/2026-07-28/
LOCATION:SanTan Gardens\, 495 E Warner Rd\, Chandler\, 85225\, United States
ATTACH;FMTTYPE=image/jpeg:https://santanbrewing.com/wp-content/uploads/2024/08/Trivia.jpeg
END:VEVENT
END:VCALENDAR